Workbook

Sheet 申込書
B1: ＜ドイツにおける工芸品・デザイン雑貨テストマーケティング事業参加申込書＞
B2: 事業者名 | K2: 登録済み
B3: 御担当者名 | K3: これから登録
B4: 御連絡先 | C4: 拠点所在地 | E4: 〒
K5: 読みました
C6: TEL（ハイフン付）
C7: メールアドレス
B8: Japan Streetに登録しましたか？
B9: 募集要項を読みましたか？
B10: ホームページアドレス（任意）
B12: 出品を希望する商品の商品名を第５希望までご記入ください。（商品の詳細はJapan Streetでご登録ください。）
B13: 商品名①
B14: 商品名②
B15: 商品名③
B16: 商品名④
B17: 商品名⑤
B18: ※Japan Streetに登録した商品名と一致するように記入してください。
B19: ※出品希望商品の中から、ドイツ市場への適正などを考慮して委託事業者において３商品程度を選定します。
B21: 提出先：山形県 産業労働部 県産品・貿易振興課 笹島、遠藤（ykensanbo＊pref.yamagata.jp）＊を＠に変えて送信願います。
B22: 提出締切：10月26日(月)17時

Sheet 県使用欄
A1: =申込書!B2 -> 事業者名 | B1: =申込書!B3 -> 御担当者名 | C1: =申込書!B4 -> 御連絡先 | G1: =申込書!B8 -> Japan Streetに登録しましたか？ | H1: =申込書!B9 -> 募集要項を読みましたか？ | I1: =申込書!B10 -> ホームページアドレス（任意） | J1: =申込書!B13 -> 商品名① | K1: =申込書!B14 -> 商品名② | L1: =申込書!B15 -> 商品名③ | M1: =申込書!B16 -> 商品名④ | N1: =申込書!B17 -> 商品名⑤
C2: =申込書!C4 -> 拠点所在地 | E2: =申込書!C6 -> TEL（ハイフン付） | F2: =申込書!C7 -> メールアドレス
A4: =申込書!E2 -> 0 | B4: =申込書!E3 -> 0 | C4: =申込書!E4 -> 〒 | D4: =申込書!E5 -> 0 | E4: =申込書!E6 -> 0 | F4: =申込書!E7 -> 0 | G4: =申込書!E8 -> 0 | H4: =申込書!E9 -> 0 | I4: =申込書!E10 -> 0 | J4: =申込書!E13 -> 0 | K4: =申込書!E14 -> 0 | L4: =申込書!E15 -> 0 | M4: =申込書!E16 -> 0 | N4: =申込書!E17 -> 0
